BEGIN:VCALENDAR
VERSION:2.0
PRODID:-//Hotel Landsknecht - ECPv6.15.20//NONSGML v1.0//EN
CALSCALE:GREGORIAN
METHOD:PUBLISH
X-WR-CALNAME:Hotel Landsknecht
X-ORIGINAL-URL:https://hotel-landsknecht.com
X-WR-CALDESC:Veranstaltungen für Hotel Landsknecht
REFRESH-INTERVAL;VALUE=DURATION:PT1H
X-Robots-Tag:noindex
X-PUBLISHED-TTL:PT1H
BEGIN:VTIMEZONE
TZID:Europe/Berlin
BEGIN:DAYLIGHT
TZOFFSETFROM:+0100
TZOFFSETTO:+0200
TZNAME:CEST
DTSTART:20250330T010000
END:DAYLIGHT
BEGIN:STANDARD
TZOFFSETFROM:+0200
TZOFFSETTO:+0100
TZNAME:CET
DTSTART:20251026T010000
END:STANDARD
BEGIN:DAYLIGHT
TZOFFSETFROM:+0100
TZOFFSETTO:+0200
TZNAME:CEST
DTSTART:20260329T010000
END:DAYLIGHT
BEGIN:STANDARD
TZOFFSETFROM:+0200
TZOFFSETTO:+0100
TZNAME:CET
DTSTART:20261025T010000
END:STANDARD
BEGIN:DAYLIGHT
TZOFFSETFROM:+0100
TZOFFSETTO:+0200
TZNAME:CEST
DTSTART:20270328T010000
END:DAYLIGHT
BEGIN:STANDARD
TZOFFSETFROM:+0200
TZOFFSETTO:+0100
TZNAME:CET
DTSTART:20271031T010000
END:STANDARD
END:VTIMEZONE
BEGIN:VEVENT
DTSTART;TZID=Europe/Berlin:20260620T180000
DTEND;TZID=Europe/Berlin:20260621T033000
DTSTAMP:20260423T163019
CREATED:20260422T101028Z
LAST-MODIFIED:20260422T104553Z
UID:23225214-1781978400-1782012600@hotel-landsknecht.com
SUMMARY:Tanzbar Tenne Live mit Claudia Lino
DESCRIPTION:Tanzbar Tenne Live Vol. 7 mit Claudia Lino\nAm Samstag\, den 20.06.2026\, heißt es wieder Bühne frei für einen unvergesslichen Abend in der Tanzbar Tenne im Partyhaus Landsknecht! \nFreut euch auf Live-Musik mit Claudia Lino und eine mitreißende Mischung aus Schlager\, Discofox\, Charts\, Eurodance und Schlager Pop. \nAb 18 Uhr erwartet euch beste Stimmung\, tanzbare Hits und echtes Partyfeeling. Mit bekannten Songs wie „Nachts wenn alles schläft“ und „1000 Lichter“ sorgt Claudia Lino live on stage für musikalische Highlights und einen Abend voller Emotionen\, guter Laune und Tanzspaß. \nOb Schlagerfans\, Discofox-Liebhaber oder Freunde moderner Partyhits – bei der Tanzbar Tenne Live Vol. 7 kommt jeder auf seine Kosten. \n \nTanzbar Tenne Live mit Claudia Lino\n📍 Ort: Tanzbar Tenne\n⏰ Einlass: Ab 18 Uhr\n🔞 Mindestalter: 18 Jahre \n🎧 DJ des Abends: DJ Mario & DJ Spencer \n  \nFeiern und bleiben! \nSaisonale Übernachtungsangebote: Kurz mal Party B (Kategorie) 2026\n \nIn unserem Hotel Landsknecht erwarten Sie zahlreiche Möglichkeiten und der professionelle Service eines familiengeführten Hauses. Jeden Freitag und Samstag super Party-Spaß. Lassen Sie den Alltag hinter sich und hinein ins Party Vergnügen! Wir freuen uns Sie im Partyhaus Landsknecht begrüßen zu dürfen. \nPreise pro Person inkl. der folgenden Leistungen: \n\nEintritt in die geöffneten Tanzbereiche\nÜbernachtung\nLate Check-out bis 14 Uhr bei Verfügbarkeit\n\n*Preisvorteil bei 2 Übernachtungen \nGültigkeitszeiträume für Übernachtungsangebote 2026:
URL:https://hotel-landsknecht.com/party/tanzbar-tenne-live-mit-claudia-lino/
LOCATION:Partyhaus Landsknecht\, Westerwaldstr. 184\, Hennef-Uckerath\, NRW\, 53773
CATEGORIES:Tenne 2024
ATTACH;FMTTYPE=image/jpeg:https://hotel-landsknecht.com/wp-content/uploads/2026/04/heander-tenne-live-7.jpg
ORGANIZER;CN="Hotel Landsknecht GmbH":MAILTO:info@hotel-landsknecht.com
END:VEVENT
END:VCALENDAR